BEGIN:VCALENDAR
VERSION:2.0
PRODID:-//eventon.com NONSGML v1.0//EN
CALSCALE:GREGORIAN
METHOD:PUBLISH
BEGIN:VEVENT
UID:69e73379cbffb
DTSTAMP:20260421T082113Z
DTSTART:20230102T143000Z
DTEND:20230103T055000Z
LOCATION:
SUMMARY:Certified Nurse Aide (CNA) Morning
DESCRIPTION:New classes will start approximately every five weeks. This cla
 ss is from January 2\,  2023 to February 2\,  2023 Classes meet for five ho
 urs a day Monday through Thursday. Time: 08:30 a.m.- 01:30 p.m. All class s
 chedules are subject to change.\nhttps://elitenurseaidetraining.com/events/
 certified-nurse-aide-cna-morning-15/
URL:https://elitenurseaidetraining.com/events/certified-nurse-aide-cna-morning-15/
END:VEVENT
END:VCALENDAR