BEGIN:VCALENDAR
VERSION:2.0
PRODID:-//eventon.com NONSGML v1.0//EN
CALSCALE:GREGORIAN
METHOD:PUBLISH
BEGIN:VEVENT
UID:69ea0052e671d
DTSTAMP:20260423T111946Z
DTSTART:20240226T210000Z
DTEND:20240227T055000Z
LOCATION:
SUMMARY:Phlebotomy
DESCRIPTION:\nhttps://elitenurseaidetraining.com/events/phlebotomy-2/
URL:https://elitenurseaidetraining.com/events/phlebotomy-2/
END:VEVENT
END:VCALENDAR