BEGIN:VCALENDAR
VERSION:2.0
PRODID:-//eventon.com NONSGML v1.0//EN
CALSCALE:GREGORIAN
METHOD:PUBLISH
BEGIN:VEVENT
UID:69e9ebea2b64b
DTSTAMP:20260423T095242Z
DTSTART:20240717T160000Z
DTEND:20240718T045000Z
LOCATION:
SUMMARY:Graduation (PLAB)
DESCRIPTION:\nhttps://elitenurseaidetraining.com/events/graduation-plab-11/
URL:https://elitenurseaidetraining.com/events/graduation-plab-11/
END:VEVENT
END:VCALENDAR