BEGIN:VCALENDAR
VERSION:2.0
PRODID:-//eventon.com NONSGML v1.0//EN
CALSCALE:GREGORIAN
METHOD:PUBLISH
BEGIN:VEVENT
UID:69e731bd9b313
DTSTAMP:20260421T081349Z
DTSTART:20211108T143000Z
DTEND:20211108T193000Z
LOCATION:
SUMMARY:CPR Initial & Recertification Class
DESCRIPTION:New classes will start approximately once a month for one day. 
 Class is five hours long. Time: 8:30 a.m.-1:30 p.m. All class schedules are
  subject to change.\nhttps://elitenurseaidetraining.com/events/cpr-initial-
 recertification-class-6/
URL:https://elitenurseaidetraining.com/events/cpr-initial-recertification-class-6/
END:VEVENT
END:VCALENDAR